BEGIN:VCALENDAR
PRODID:-//Microsoft Corporation//Outlook 12.0 MIMEDIR//EN
VERSION:2.0
CALSCALE:GREGORIAN
BEGIN:VEVENT
UID: 9571dc9d-8167-4d6e-8f33-fc623788fee0
SUMMARY:Noortekeskuse nädalaplaan
DTSTAMP:20260421
DTSTART:20260421
DTEND:20260425
DURATION:P4D
LOCATION:
DESCRIPTION: <p><span style="-webkit-text-stroke-width:0px;background-color:rgb(252, 254, 255);color:rgb(17, 17, 17);display:inline !important;float:none;font-family:&quot;Stuudium Sans&quot;, BlinkMacSystemFont, -apple-system, &quot;Segoe UI&quot;, Roboto, Helvetica, Arial, sans-serif;font-size:15px;font-style:normal;font-variant-caps:normal;font-variant-ligatures:normal;font-weight:400;letter-spacing:-0.135px;orphans:2;text-align:start;text-decoration-color:initial;text-decoration-style:initial;text-decoration-thickness:initial;text-indent:0px;text-transform:none;white-space:normal;widows:2;word-spacing:0px;">Tere!</span><br><br><span style="-webkit-text-stroke-width:0px;background-color:rgb(252, 254, 255);color:rgb(17, 17, 17);display:inline !important;float:none;font-family:&quot;Stuudium Sans&quot;, BlinkMacSystemFont, -apple-system, &quot;Segoe UI&quot;, Roboto, Helvetica, Arial, sans-serif;font-size:15px;font-style:normal;font-variant-caps:normal;font-variant-ligatures:normal;font-weight:400;letter-spacing:-0.135px;orphans:2;text-align:start;text-decoration-color:initial;text-decoration-style:initial;text-decoration-thickness:initial;text-indent:0px;text-transform:none;white-space:normal;widows:2;word-spacing:0px;">Sellel nädalal on noortekeskuse graafikus mõned muudatused, seega tasub plaan enne tulekut üle vaadata.</span><br><br><span style="-webkit-text-stroke-width:0px;background-color:rgb(252, 254, 255);color:rgb(17, 17, 17);display:inline !important;float:none;font-family:&quot;Stuudium Sans&quot;, BlinkMacSystemFont, -apple-system, &quot;Segoe UI&quot;, Roboto, Helvetica, Arial, sans-serif;font-size:15px;font-style:normal;font-variant-caps:normal;font-variant-ligatures:normal;font-weight:400;letter-spacing:-0.135px;orphans:2;text-align:start;text-decoration-color:initial;text-decoration-style:initial;text-decoration-thickness:initial;text-indent:0px;text-transform:none;white-space:normal;widows:2;word-spacing:0px;">esmaspäeval (20.04) ja teisipäeval (21.04), on noortekeskus SULETUD.</span><br><br><span style="-webkit-text-stroke-width:0px;background-color:rgb(252, 254, 255);color:rgb(17, 17, 17);display:inline !important;float:none;font-family:&quot;Stuudium Sans&quot;, BlinkMacSystemFont, -apple-system, &quot;Segoe UI&quot;, Roboto, Helvetica, Arial, sans-serif;font-size:15px;font-style:normal;font-variant-caps:normal;font-variant-ligatures:normal;font-weight:400;letter-spacing:-0.135px;orphans:2;text-align:start;text-decoration-color:initial;text-decoration-style:initial;text-decoration-thickness:initial;text-indent:0px;text-transform:none;white-space:normal;widows:2;word-spacing:0px;">Kolmapäeval (22.04) ootan teid taas kohale – siis hakkame koos lilli meisterdama.</span><br><br><span style="-webkit-text-stroke-width:0px;background-color:rgb(252, 254, 255);color:rgb(17, 17, 17);display:inline !important;float:none;font-family:&quot;Stuudium Sans&quot;, BlinkMacSystemFont, -apple-system, &quot;Segoe UI&quot;, Roboto, Helvetica, Arial, sans-serif;font-size:15px;font-style:normal;font-variant-caps:normal;font-variant-ligatures:normal;font-weight:400;letter-spacing:-0.135px;orphans:2;text-align:start;text-decoration-color:initial;text-decoration-style:initial;text-decoration-thickness:initial;text-indent:0px;text-transform:none;white-space:normal;widows:2;word-spacing:0px;">Neljapäeval (23.04) toimub loovusring, kus saab erinevaid põnevaid asju proovida ja mõnusalt aega veeta.</span><br><br><span style="-webkit-text-stroke-width:0px;background-color:rgb(252, 254, 255);color:rgb(17, 17, 17);display:inline !important;float:none;font-family:&quot;Stuudium Sans&quot;, BlinkMacSystemFont, -apple-system, &quot;Segoe UI&quot;, Roboto, Helvetica, Arial, sans-serif;font-size:15px;font-style:normal;font-variant-caps:normal;font-variant-ligatures:normal;font-weight:400;letter-spacing:-0.135px;orphans:2;text-align:start;text-decoration-color:initial;text-decoration-style:initial;text-decoration-thickness:initial;text-indent:0px;text-transform:none;white-space:normal;widows:2;word-spacing:0px;">Reede (24.04) on veidi teistsuguse korraldusega. Noortekeskus on avatud kell 13.30–14.30 ning sel ajal on teiega Annabel. Seejärel on keskus mõneks ajaks suletud. Pärast seda avatakse uksed uuesti kell 16.00 ning noortekeskus on avatud kuni 18.00.</span><br><br><span style="-webkit-text-stroke-width:0px;background-color:rgb(252, 254, 255);color:rgb(17, 17, 17);display:inline !important;float:none;font-family:&quot;Stuudium Sans&quot;, BlinkMacSystemFont, -apple-system, &quot;Segoe UI&quot;, Roboto, Helvetica, Arial, sans-serif;font-size:15px;font-style:normal;font-variant-caps:normal;font-variant-ligatures:normal;font-weight:400;letter-spacing:-0.135px;orphans:2;text-align:start;text-decoration-color:initial;text-decoration-style:initial;text-decoration-thickness:initial;text-indent:0px;text-transform:none;white-space:normal;widows:2;word-spacing:0px;">Pea meeles, et kõik tegevused algavad üldjuhul kell 14.00, kui ei ole märgitud teisiti.</span><br><br><span style="-webkit-text-stroke-width:0px;background-color:rgb(252, 254, 255);color:rgb(17, 17, 17);display:inline !important;float:none;font-family:&quot;Stuudium Sans&quot;, BlinkMacSystemFont, -apple-system, &quot;Segoe UI&quot;, Roboto, Helvetica, Arial, sans-serif;font-size:15px;font-style:normal;font-variant-caps:normal;font-variant-ligatures:normal;font-weight:400;letter-spacing:-0.135px;orphans:2;text-align:start;text-decoration-color:initial;text-decoration-style:initial;text-decoration-thickness:initial;text-indent:0px;text-transform:none;white-space:normal;widows:2;word-spacing:0px;">Tule läbi, võta sõbrad kaasa ja veedame koos ägeda nädala! 😊</span><br><br><span style="-webkit-text-stroke-width:0px;background-color:rgb(252, 254, 255);color:rgb(17, 17, 17);display:inline !important;float:none;font-family:&quot;Stuudium Sans&quot;, BlinkMacSystemFont, -apple-system, &quot;Segoe UI&quot;, Roboto, Helvetica, Arial, sans-serif;font-size:15px;font-style:normal;font-variant-caps:normal;font-variant-ligatures:normal;font-weight:400;letter-spacing:-0.135px;orphans:2;text-align:start;text-decoration-color:initial;text-decoration-style:initial;text-decoration-thickness:initial;text-indent:0px;text-transform:none;white-space:normal;widows:2;word-spacing:0px;">Kõike head,</span><br><span style="-webkit-text-stroke-width:0px;background-color:rgb(252, 254, 255);color:rgb(17, 17, 17);display:inline !important;float:none;font-family:&quot;Stuudium Sans&quot;, BlinkMacSystemFont, -apple-system, &quot;Segoe UI&quot;, Roboto, Helvetica, Arial, sans-serif;font-size:15px;font-style:normal;font-variant-caps:normal;font-variant-ligatures:normal;font-weight:400;letter-spacing:-0.135px;orphans:2;text-align:start;text-decoration-color:initial;text-decoration-style:initial;text-decoration-thickness:initial;text-indent:0px;text-transform:none;white-space:normal;widows:2;word-spacing:0px;">Piret Ranne</span></p><p><strong>Link: </strong>https://imavere.edu.ee/et/sundmuste-kalender/noortekeskuse-nadalaplaan-1</p><p><strong>Hind: </strong></p>
STATUS:CONFIRMED
SEQUENCE:3
X-ALT-DESC;FMTTYPE=text/html:<p><span style="-webkit-text-stroke-width:0px;background-color:rgb(252, 254, 255);color:rgb(17, 17, 17);display:inline !important;float:none;font-family:&quot;Stuudium Sans&quot;, BlinkMacSystemFont, -apple-system, &quot;Segoe UI&quot;, Roboto, Helvetica, Arial, sans-serif;font-size:15px;font-style:normal;font-variant-caps:normal;font-variant-ligatures:normal;font-weight:400;letter-spacing:-0.135px;orphans:2;text-align:start;text-decoration-color:initial;text-decoration-style:initial;text-decoration-thickness:initial;text-indent:0px;text-transform:none;white-space:normal;widows:2;word-spacing:0px;">Tere!</span><br><br><span style="-webkit-text-stroke-width:0px;background-color:rgb(252, 254, 255);color:rgb(17, 17, 17);display:inline !important;float:none;font-family:&quot;Stuudium Sans&quot;, BlinkMacSystemFont, -apple-system, &quot;Segoe UI&quot;, Roboto, Helvetica, Arial, sans-serif;font-size:15px;font-style:normal;font-variant-caps:normal;font-variant-ligatures:normal;font-weight:400;letter-spacing:-0.135px;orphans:2;text-align:start;text-decoration-color:initial;text-decoration-style:initial;text-decoration-thickness:initial;text-indent:0px;text-transform:none;white-space:normal;widows:2;word-spacing:0px;">Sellel nädalal on noortekeskuse graafikus mõned muudatused, seega tasub plaan enne tulekut üle vaadata.</span><br><br><span style="-webkit-text-stroke-width:0px;background-color:rgb(252, 254, 255);color:rgb(17, 17, 17);display:inline !important;float:none;font-family:&quot;Stuudium Sans&quot;, BlinkMacSystemFont, -apple-system, &quot;Segoe UI&quot;, Roboto, Helvetica, Arial, sans-serif;font-size:15px;font-style:normal;font-variant-caps:normal;font-variant-ligatures:normal;font-weight:400;letter-spacing:-0.135px;orphans:2;text-align:start;text-decoration-color:initial;text-decoration-style:initial;text-decoration-thickness:initial;text-indent:0px;text-transform:none;white-space:normal;widows:2;word-spacing:0px;">esmaspäeval (20.04) ja teisipäeval (21.04), on noortekeskus SULETUD.</span><br><br><span style="-webkit-text-stroke-width:0px;background-color:rgb(252, 254, 255);color:rgb(17, 17, 17);display:inline !important;float:none;font-family:&quot;Stuudium Sans&quot;, BlinkMacSystemFont, -apple-system, &quot;Segoe UI&quot;, Roboto, Helvetica, Arial, sans-serif;font-size:15px;font-style:normal;font-variant-caps:normal;font-variant-ligatures:normal;font-weight:400;letter-spacing:-0.135px;orphans:2;text-align:start;text-decoration-color:initial;text-decoration-style:initial;text-decoration-thickness:initial;text-indent:0px;text-transform:none;white-space:normal;widows:2;word-spacing:0px;">Kolmapäeval (22.04) ootan teid taas kohale – siis hakkame koos lilli meisterdama.</span><br><br><span style="-webkit-text-stroke-width:0px;background-color:rgb(252, 254, 255);color:rgb(17, 17, 17);display:inline !important;float:none;font-family:&quot;Stuudium Sans&quot;, BlinkMacSystemFont, -apple-system, &quot;Segoe UI&quot;, Roboto, Helvetica, Arial, sans-serif;font-size:15px;font-style:normal;font-variant-caps:normal;font-variant-ligatures:normal;font-weight:400;letter-spacing:-0.135px;orphans:2;text-align:start;text-decoration-color:initial;text-decoration-style:initial;text-decoration-thickness:initial;text-indent:0px;text-transform:none;white-space:normal;widows:2;word-spacing:0px;">Neljapäeval (23.04) toimub loovusring, kus saab erinevaid põnevaid asju proovida ja mõnusalt aega veeta.</span><br><br><span style="-webkit-text-stroke-width:0px;background-color:rgb(252, 254, 255);color:rgb(17, 17, 17);display:inline !important;float:none;font-family:&quot;Stuudium Sans&quot;, BlinkMacSystemFont, -apple-system, &quot;Segoe UI&quot;, Roboto, Helvetica, Arial, sans-serif;font-size:15px;font-style:normal;font-variant-caps:normal;font-variant-ligatures:normal;font-weight:400;letter-spacing:-0.135px;orphans:2;text-align:start;text-decoration-color:initial;text-decoration-style:initial;text-decoration-thickness:initial;text-indent:0px;text-transform:none;white-space:normal;widows:2;word-spacing:0px;">Reede (24.04) on veidi teistsuguse korraldusega. Noortekeskus on avatud kell 13.30–14.30 ning sel ajal on teiega Annabel. Seejärel on keskus mõneks ajaks suletud. Pärast seda avatakse uksed uuesti kell 16.00 ning noortekeskus on avatud kuni 18.00.</span><br><br><span style="-webkit-text-stroke-width:0px;background-color:rgb(252, 254, 255);color:rgb(17, 17, 17);display:inline !important;float:none;font-family:&quot;Stuudium Sans&quot;, BlinkMacSystemFont, -apple-system, &quot;Segoe UI&quot;, Roboto, Helvetica, Arial, sans-serif;font-size:15px;font-style:normal;font-variant-caps:normal;font-variant-ligatures:normal;font-weight:400;letter-spacing:-0.135px;orphans:2;text-align:start;text-decoration-color:initial;text-decoration-style:initial;text-decoration-thickness:initial;text-indent:0px;text-transform:none;white-space:normal;widows:2;word-spacing:0px;">Pea meeles, et kõik tegevused algavad üldjuhul kell 14.00, kui ei ole märgitud teisiti.</span><br><br><span style="-webkit-text-stroke-width:0px;background-color:rgb(252, 254, 255);color:rgb(17, 17, 17);display:inline !important;float:none;font-family:&quot;Stuudium Sans&quot;, BlinkMacSystemFont, -apple-system, &quot;Segoe UI&quot;, Roboto, Helvetica, Arial, sans-serif;font-size:15px;font-style:normal;font-variant-caps:normal;font-variant-ligatures:normal;font-weight:400;letter-spacing:-0.135px;orphans:2;text-align:start;text-decoration-color:initial;text-decoration-style:initial;text-decoration-thickness:initial;text-indent:0px;text-transform:none;white-space:normal;widows:2;word-spacing:0px;">Tule läbi, võta sõbrad kaasa ja veedame koos ägeda nädala! 😊</span><br><br><span style="-webkit-text-stroke-width:0px;background-color:rgb(252, 254, 255);color:rgb(17, 17, 17);display:inline !important;float:none;font-family:&quot;Stuudium Sans&quot;, BlinkMacSystemFont, -apple-system, &quot;Segoe UI&quot;, Roboto, Helvetica, Arial, sans-serif;font-size:15px;font-style:normal;font-variant-caps:normal;font-variant-ligatures:normal;font-weight:400;letter-spacing:-0.135px;orphans:2;text-align:start;text-decoration-color:initial;text-decoration-style:initial;text-decoration-thickness:initial;text-indent:0px;text-transform:none;white-space:normal;widows:2;word-spacing:0px;">Kõike head,</span><br><span style="-webkit-text-stroke-width:0px;background-color:rgb(252, 254, 255);color:rgb(17, 17, 17);display:inline !important;float:none;font-family:&quot;Stuudium Sans&quot;, BlinkMacSystemFont, -apple-system, &quot;Segoe UI&quot;, Roboto, Helvetica, Arial, sans-serif;font-size:15px;font-style:normal;font-variant-caps:normal;font-variant-ligatures:normal;font-weight:400;letter-spacing:-0.135px;orphans:2;text-align:start;text-decoration-color:initial;text-decoration-style:initial;text-decoration-thickness:initial;text-indent:0px;text-transform:none;white-space:normal;widows:2;word-spacing:0px;">Piret Ranne</span></p><p><strong>Link: </strong>https://imavere.edu.ee/et/sundmuste-kalender/noortekeskuse-nadalaplaan-1</p><p><strong>Hind: </strong></p>
X-MICROSOFT-CDO-BUSYSTATUS:OOF
X-MICROSOFT-CDO-IMPORTANCE:1
X-MICROSOFT-DISALLOW-COUNTER:FALSE
X-MS-OLK-ALLOWEXTERNCHECK:TRUE
X-MS-OLK-CONFTYPE:0
X-MICROSOFT-CDO-ALLDAYEVENT:1
X-MICROSOFT-MSNCALENDAR-ALLDAYEVENT:1
END:VEVENT
END:VCALENDAR